Package: iCheck Version: 1.37.0 Command: /home/biocbuild/bbs-3.21-bioc/R/bin/R CMD INSTALL iCheck StartedAt: 2025-02-16 16:04:16 -0500 (Sun, 16 Feb 2025) EndedAt: 2025-02-16 16:05:01 -0500 (Sun, 16 Feb 2025) EllapsedTime: 45.1 seconds RetCode: 0 Status: OK