Package: iCheck Version: 1.37.0 Command: /home/biocbuild/bbs-3.21-bioc/R/bin/R CMD build --keep-empty-dirs --no-resave-data iCheck StartedAt: 2025-02-16 17:39:33 -0500 (Sun, 16 Feb 2025) EndedAt: 2025-02-16 17:40:43 -0500 (Sun, 16 Feb 2025) EllapsedTime: 70.1 seconds RetCode: 0 Status: OK PackageFile: iCheck_1.37.0.tar.gz PackageFileSize: 559.9 KiB