Package: iCOBRA Version: 1.37.1 Command: /home/biocbuild/R/R/bin/R CMD build --keep-empty-dirs --no-resave-data iCOBRA StartedAt: 2025-10-07 00:24:28 -0000 (Tue, 07 Oct 2025) EndedAt: 2025-10-07 00:25:07 -0000 (Tue, 07 Oct 2025) EllapsedTime: 39.0 seconds RetCode: 0 Status: OK PackageFile: iCOBRA_1.37.1.tar.gz PackageFileSize: 2.84 MiB