Package: iCOBRA Version: 1.38.0 Command: /home/biocbuild/bbs-3.22-bioc/R/bin/R CMD INSTALL iCOBRA StartedAt: 2025-10-29 21:25:31 -0400 (Wed, 29 Oct 2025) EndedAt: 2025-10-29 21:25:43 -0400 (Wed, 29 Oct 2025) EllapsedTime: 12.1 seconds RetCode: 0 Status: OK