Package: iCOBRA Version: 1.37.0 Command: /Library/Frameworks/R.framework/Resources/bin/R CMD INSTALL iCOBRA StartedAt: 2025-05-27 15:10:58 -0400 (Tue, 27 May 2025) EndedAt: 2025-05-27 15:11:27 -0400 (Tue, 27 May 2025) EllapsedTime: 28.7 seconds RetCode: 0 Status: OK