Package: iCNV Version: 1.27.0 Command: E:\biocbuild\bbs-3.21-bioc\R\bin\R.exe CMD INSTALL iCNV StartedAt: 2025-02-09 16:36:14 -0500 (Sun, 09 Feb 2025) EndedAt: 2025-02-09 16:37:28 -0500 (Sun, 09 Feb 2025) EllapsedTime: 74.4 seconds RetCode: 0 Status: OK