Package: iCNV Version: 1.27.0 Command: E:\biocbuild\bbs-3.21-bioc\R\bin\R.exe CMD check --no-multiarch --install=check:iCNV.install-out.txt --library=E:\biocbuild\bbs-3.21-bioc\R\library --no-vignettes --timings iCNV_1.27.0.tar.gz StartedAt: 2025-02-05 02:30:22 -0500 (Wed, 05 Feb 2025) EndedAt: 2025-02-05 02:34:56 -0500 (Wed, 05 Feb 2025) EllapsedTime: 273.3 seconds RetCode: 0 Status: WARNINGS CheckDir: iCNV.Rcheck Warnings: 1