Package: iCNV Version: 1.27.0 Command: rm -rf iCNV.buildbin-libdir && mkdir iCNV.buildbin-libdir && E:\biocbuild\bbs-3.21-bioc\R\bin\R.exe CMD INSTALL --build --library=iCNV.buildbin-libdir iCNV_1.27.0.tar.gz StartedAt: 2025-02-05 08:08:22 -0500 (Wed, 05 Feb 2025) EndedAt: 2025-02-05 08:10:52 -0500 (Wed, 05 Feb 2025) EllapsedTime: 149.5 seconds RetCode: 0 Status: OK PackageFile: iCNV_1.27.0.zip PackageFileSize: 1.896 MiB