Package: iCNV Version: 1.29.0 Command: /home/biocbuild/bbs-3.22-bioc/R/bin/R CMD INSTALL iCNV StartedAt: 2025-10-14 15:35:01 -0400 (Tue, 14 Oct 2025) EndedAt: 2025-10-14 15:35:35 -0400 (Tue, 14 Oct 2025) EllapsedTime: 33.7 seconds RetCode: 0 Status: OK