Package: iCNV Version: 1.27.0 Command: /home/biocbuild/bbs-3.21-bioc/R/bin/R CMD INSTALL iCNV StartedAt: 2025-02-04 15:32:29 -0500 (Tue, 04 Feb 2025) EndedAt: 2025-02-04 15:33:02 -0500 (Tue, 04 Feb 2025) EllapsedTime: 32.8 seconds RetCode: 0 Status: OK