Package: iCNV Version: 1.27.0 Command: /home/biocbuild/bbs-3.21-bioc/R/bin/R CMD build --keep-empty-dirs --no-resave-data iCNV StartedAt: 2025-02-04 17:40:02 -0500 (Tue, 04 Feb 2025) EndedAt: 2025-02-04 17:42:06 -0500 (Tue, 04 Feb 2025) EllapsedTime: 124.3 seconds RetCode: 0 Status: OK PackageFile: iCNV_1.27.0.tar.gz PackageFileSize: 2.227 MiB