Package: iCNV Version: 1.27.0 Command: rm -rf iCNV.buildbin-libdir && mkdir iCNV.buildbin-libdir && /Users/biocbuild/BBS/utils/build-universal.sh iCNV_1.27.0.tar.gz /Library/Frameworks/R.framework/Resources/bin/R iCNV.buildbin-libdir StartedAt: 2025-02-19 22:25:29 -0500 (Wed, 19 Feb 2025) EndedAt: 2025-02-19 22:25:44 -0500 (Wed, 19 Feb 2025) EllapsedTime: 15.4 seconds RetCode: 0 Status: OK PackageFile: iCNV_1.27.0.tgz PackageFileSize: 2.431 MiB