Package: iCARE Version: 1.37.0 Command: /home/biocbuild/bbs-3.22-bioc/R/bin/R CMD INSTALL iCARE StartedAt: 2025-10-10 15:20:18 -0400 (Fri, 10 Oct 2025) EndedAt: 2025-10-10 15:20:36 -0400 (Fri, 10 Oct 2025) EllapsedTime: 18.5 seconds RetCode: 0 Status: OK