Package: iCARE Version: 1.37.0 Command: /home/biocbuild/bbs-3.22-bioc/R/bin/R CMD build --keep-empty-dirs --no-resave-data --md5 iCARE StartedAt: 2025-10-10 18:20:29 -0400 (Fri, 10 Oct 2025) EndedAt: 2025-10-10 18:23:46 -0400 (Fri, 10 Oct 2025) EllapsedTime: 197.2 seconds RetCode: 0 Status: OK PackageFile: iCARE_1.37.0.tar.gz PackageFileSize: 1.422 MiB