Package: iCARE Version: 1.37.0 Command: /Library/Frameworks/R.framework/Resources/bin/R CMD check --install=check:iCARE.install-out.txt --library=/Library/Frameworks/R.framework/Resources/library --no-vignettes --timings iCARE_1.37.0.tar.gz StartedAt: 2025-05-27 21:05:14 -0400 (Tue, 27 May 2025) EndedAt: 2025-05-27 21:06:53 -0400 (Tue, 27 May 2025) EllapsedTime: 99.1 seconds RetCode: 0 Status: WARNINGS CheckDir: iCARE.Rcheck Warnings: 1