Package: iCARE Version: 1.37.0 Command: /Library/Frameworks/R.framework/Resources/bin/R CMD build --keep-empty-dirs --no-resave-data iCARE StartedAt: 2025-05-27 17:05:46 -0400 (Tue, 27 May 2025) EndedAt: 2025-05-27 17:09:20 -0400 (Tue, 27 May 2025) EllapsedTime: 213.6 seconds RetCode: 0 Status: OK PackageFile: iCARE_1.37.0.tar.gz PackageFileSize: 1.418 MiB