Package: iCARE Version: 1.37.0 Command: rm -rf iCARE.buildbin-libdir && mkdir iCARE.buildbin-libdir && /Users/biocbuild/BBS/utils/build-universal.sh iCARE_1.37.0.tar.gz /Library/Frameworks/R.framework/Resources/bin/R iCARE.buildbin-libdir StartedAt: 2025-05-28 00:44:03 -0400 (Wed, 28 May 2025) EndedAt: 2025-05-28 00:44:21 -0400 (Wed, 28 May 2025) EllapsedTime: 18.7 seconds RetCode: 0 Status: OK PackageFile: iCARE_1.37.0.tgz PackageFileSize: 1.504 MiB