Package: iBMQ Version: 1.49.0 Command: /home/biocbuild/bbs-3.22-bioc/R/bin/R CMD INSTALL iBMQ StartedAt: 2025-10-12 15:12:39 -0400 (Sun, 12 Oct 2025) EndedAt: 2025-10-12 15:12:48 -0400 (Sun, 12 Oct 2025) EllapsedTime: 8.5 seconds RetCode: 0 Status: OK