Package: iBBiG Version: 1.53.0 Command: /home/biocbuild/R/R/bin/R CMD build --keep-empty-dirs --no-resave-data iBBiG StartedAt: 2025-10-07 00:24:03 -0000 (Tue, 07 Oct 2025) EndedAt: 2025-10-07 00:24:50 -0000 (Tue, 07 Oct 2025) EllapsedTime: 47.0 seconds RetCode: 0 Status: OK PackageFile: iBBiG_1.53.0.tar.gz PackageFileSize: 905.7 KiB