Package: iASeq Version: 1.51.0 Command: /Library/Frameworks/R.framework/Resources/bin/R CMD INSTALL iASeq StartedAt: 2025-02-20 15:29:57 -0500 (Thu, 20 Feb 2025) EndedAt: 2025-02-20 15:29:58 -0500 (Thu, 20 Feb 2025) EllapsedTime: 1.0 seconds RetCode: 0 Status: OK