Package: iASeq Version: 1.53.0 Maintainer: Yingying Wei MaintainerEmail: ywei at jhsph.edu git_url: https://git.bioconductor.org/packages/iASeq git_branch: devel git_last_commit: b4c855e git_last_commit_date: 2025-04-15 10:13:35 -0400 (Tue, 15 Apr 2025)