Package: hypergraph Version: 1.81.0 Command: /home/biocbuild/R/R/bin/R CMD INSTALL hypergraph StartedAt: 2025-10-02 20:33:25 -0000 (Thu, 02 Oct 2025) EndedAt: 2025-10-02 20:33:33 -0000 (Thu, 02 Oct 2025) EllapsedTime: 8.1 seconds RetCode: 0 Status: OK