Package: hypergraph Version: 1.81.0 Command: /home/biocbuild/bbs-3.22-bioc/R/bin/R CMD check --install=check:hypergraph.install-out.txt --library=/home/biocbuild/bbs-3.22-bioc/R/site-library --timings hypergraph_1.81.0.tar.gz StartedAt: 2025-10-18 00:51:01 -0400 (Sat, 18 Oct 2025) EndedAt: 2025-10-18 00:51:24 -0400 (Sat, 18 Oct 2025) EllapsedTime: 23.0 seconds RetCode: 0 Status: OK CheckDir: hypergraph.Rcheck Warnings: 0