Package: hyperdraw Version: 1.61.0 Command: /home/biocbuild/R/R/bin/R CMD INSTALL hyperdraw StartedAt: 2025-10-16 21:26:43 -0000 (Thu, 16 Oct 2025) EndedAt: 2025-10-16 21:26:51 -0000 (Thu, 16 Oct 2025) EllapsedTime: 8.0 seconds RetCode: 0 Status: OK