Package: hyperdraw Version: 1.61.0 Command: /home/biocbuild/R/R/bin/R CMD build --keep-empty-dirs --no-resave-data hyperdraw StartedAt: 2025-10-21 00:32:33 -0000 (Tue, 21 Oct 2025) EndedAt: 2025-10-21 00:32:44 -0000 (Tue, 21 Oct 2025) EllapsedTime: 11.0 seconds RetCode: 0 Status: OK PackageFile: hyperdraw_1.61.0.tar.gz PackageFileSize: 197.4 KiB