Package: hyperdraw Version: 1.63.0 Command: /home/biocbuild/bbs-3.23-bioc/R/bin/R CMD INSTALL hyperdraw StartedAt: 2025-11-20 15:14:22 -0500 (Thu, 20 Nov 2025) EndedAt: 2025-11-20 15:14:27 -0500 (Thu, 20 Nov 2025) EllapsedTime: 4.5 seconds RetCode: 0 Status: OK