Package: hyperdraw Version: 1.63.0 Command: /home/biocbuild/bbs-3.23-bioc/R/bin/R CMD build --keep-empty-dirs --no-resave-data hyperdraw StartedAt: 2025-11-20 18:08:35 -0500 (Thu, 20 Nov 2025) EndedAt: 2025-11-20 18:08:45 -0500 (Thu, 20 Nov 2025) EllapsedTime: 10.0 seconds RetCode: 0 Status: OK PackageFile: hyperdraw_1.63.0.tar.gz PackageFileSize: 204.1 KiB