Package: hyperdraw Version: 1.61.0 Command: /Library/Frameworks/R.framework/Resources/bin/R CMD INSTALL hyperdraw StartedAt: 2025-09-30 15:19:31 -0400 (Tue, 30 Sep 2025) EndedAt: 2025-09-30 15:19:39 -0400 (Tue, 30 Sep 2025) EllapsedTime: 7.7 seconds RetCode: 0 Status: OK