Package: hyperdraw Version: 1.61.0 Command: /Library/Frameworks/R.framework/Resources/bin/R CMD build --keep-empty-dirs --no-resave-data hyperdraw StartedAt: 2025-09-30 17:22:19 -0400 (Tue, 30 Sep 2025) EndedAt: 2025-09-30 17:22:42 -0400 (Tue, 30 Sep 2025) EllapsedTime: 23.2 seconds RetCode: 0 Status: OK PackageFile: hyperdraw_1.61.0.tar.gz PackageFileSize: 204.1 KiB