Package: hyperdraw Version: 1.61.0 Command: rm -rf hyperdraw.buildbin-libdir && mkdir hyperdraw.buildbin-libdir && /Users/biocbuild/BBS/utils/build-universal.sh hyperdraw_1.61.0.tar.gz /Library/Frameworks/R.framework/Resources/bin/R hyperdraw.buildbin-libdir StartedAt: 2025-10-01 01:47:33 -0400 (Wed, 01 Oct 2025) EndedAt: 2025-10-01 01:47:44 -0400 (Wed, 01 Oct 2025) EllapsedTime: 11.7 seconds RetCode: 0 Status: OK PackageFile: hyperdraw_1.61.0.tgz PackageFileSize: 390.2 KiB