Package: hypeR Version: 2.7.1 Command: F:\biocbuild\bbs-3.22-bioc\R\bin\R.exe CMD INSTALL hypeR StartedAt: 2025-08-14 15:27:33 -0400 (Thu, 14 Aug 2025) EndedAt: 2025-08-14 15:27:44 -0400 (Thu, 14 Aug 2025) EllapsedTime: 10.5 seconds RetCode: 1 Status: ERROR