Package: hypeR Version: 2.5.0 Command: chmod a+r hypeR -R && E:\biocbuild\bbs-3.21-bioc\R\bin\R.exe CMD build --keep-empty-dirs --no-resave-data hypeR StartedAt: 2025-02-19 19:20:15 -0500 (Wed, 19 Feb 2025) EndedAt: 2025-02-19 19:20:42 -0500 (Wed, 19 Feb 2025) EllapsedTime: 26.8 seconds RetCode: 0 Status: OK PackageFile: hypeR_2.5.0.tar.gz PackageFileSize: 316.5 KiB