Package: hypeR Version: 2.7.1 Command: /home/biocbuild/bbs-3.22-bioc/R/bin/R CMD INSTALL hypeR StartedAt: 2025-10-24 15:19:31 -0400 (Fri, 24 Oct 2025) EndedAt: 2025-10-24 15:19:41 -0400 (Fri, 24 Oct 2025) EllapsedTime: 9.4 seconds RetCode: 1 Status: ERROR