Package: hypeR Version: 2.7.1 Command: /home/biocbuild/bbs-3.22-bioc/R/bin/R CMD build --keep-empty-dirs --no-resave-data --md5 hypeR StartedAt: 2025-10-24 18:19:44 -0400 (Fri, 24 Oct 2025) EndedAt: 2025-10-24 18:19:46 -0400 (Fri, 24 Oct 2025) EllapsedTime: 2.0 seconds RetCode: 1 Status: ERROR PackageFile: None PackageFileSize: NA