Package: hypeR Version: 2.5.0 Command: /home/biocbuild/bbs-3.21-bioc/R/bin/R CMD build --keep-empty-dirs --no-resave-data hypeR StartedAt: 2025-02-19 17:41:11 -0500 (Wed, 19 Feb 2025) EndedAt: 2025-02-19 17:41:24 -0500 (Wed, 19 Feb 2025) EllapsedTime: 13.0 seconds RetCode: 0 Status: OK PackageFile: hypeR_2.5.0.tar.gz PackageFileSize: 316.4 KiB