Package: hummingbird Version: 1.19.0 Command: rm -rf hummingbird.buildbin-libdir && mkdir hummingbird.buildbin-libdir && /Users/biocbuild/BBS/utils/build-universal.sh hummingbird_1.19.0.tar.gz /Library/Frameworks/R.framework/Resources/bin/R hummingbird.buildbin-libdir StartedAt: 2025-10-24 23:06:18 -0400 (Fri, 24 Oct 2025) EndedAt: 2025-10-24 23:06:28 -0400 (Fri, 24 Oct 2025) EllapsedTime: 10.3 seconds RetCode: 0 Status: OK PackageFile: hummingbird_1.19.0.tgz PackageFileSize: 465.7 KiB