Package: hpar Version: 1.49.0 Command: E:\biocbuild\bbs-3.21-bioc\R\bin\R.exe CMD INSTALL hpar StartedAt: 2025-02-05 15:51:07 -0500 (Wed, 05 Feb 2025) EndedAt: 2025-02-05 15:51:28 -0500 (Wed, 05 Feb 2025) EllapsedTime: 21.0 seconds RetCode: 0 Status: OK