Package: hpar Version: 1.49.0 Command: rm -rf hpar.buildbin-libdir && mkdir hpar.buildbin-libdir && E:\biocbuild\bbs-3.21-bioc\R\bin\R.exe CMD INSTALL --build --library=hpar.buildbin-libdir hpar_1.49.0.tar.gz StartedAt: 2025-02-11 08:08:59 -0500 (Tue, 11 Feb 2025) EndedAt: 2025-02-11 08:09:20 -0500 (Tue, 11 Feb 2025) EllapsedTime: 20.5 seconds RetCode: 0 Status: OK PackageFile: hpar_1.49.0.zip PackageFileSize: 644.6 KiB