Package: hpar Version: 1.51.0 Command: /home/biocbuild/bbs-3.22-bioc/R/bin/R CMD INSTALL hpar StartedAt: 2025-10-12 15:26:46 -0400 (Sun, 12 Oct 2025) EndedAt: 2025-10-12 15:26:59 -0400 (Sun, 12 Oct 2025) EllapsedTime: 13.8 seconds RetCode: 0 Status: OK