Package: hpar Version: 1.49.0 Command: /home/biocbuild/bbs-3.21-bioc/R/bin/R CMD INSTALL hpar StartedAt: 2025-02-10 15:35:15 -0500 (Mon, 10 Feb 2025) EndedAt: 2025-02-10 15:35:29 -0500 (Mon, 10 Feb 2025) EllapsedTime: 13.4 seconds RetCode: 0 Status: OK