Package: hpar Version: 1.49.0 Command: /home/biocbuild/bbs-3.21-bioc/R/bin/R CMD build --keep-empty-dirs --no-resave-data hpar StartedAt: 2025-02-10 17:49:31 -0500 (Mon, 10 Feb 2025) EndedAt: 2025-02-10 17:50:12 -0500 (Mon, 10 Feb 2025) EllapsedTime: 41.1 seconds RetCode: 0 Status: OK PackageFile: hpar_1.49.0.tar.gz PackageFileSize: 885.3 KiB