Package: hpar Version: 1.49.0 Command: rm -rf hpar.buildbin-libdir && mkdir hpar.buildbin-libdir && /Users/biocbuild/BBS/utils/build-universal.sh hpar_1.49.0.tar.gz /Library/Frameworks/R.framework/Resources/bin/R hpar.buildbin-libdir StartedAt: 2025-02-10 00:58:04 -0500 (Mon, 10 Feb 2025) EndedAt: 2025-02-10 00:58:27 -0500 (Mon, 10 Feb 2025) EllapsedTime: 23.3 seconds RetCode: 0 Status: OK PackageFile: hpar_1.49.0.tgz PackageFileSize: 638.2 KiB