Package: hpar Version: 1.49.0 Command: /home/biocbuild/R/R/bin/R CMD check --install=check:hpar.install-out.txt --library=/home/biocbuild/R/R/site-library --no-vignettes --timings hpar_1.49.0.tar.gz StartedAt: 2025-01-28 11:32:32 -0000 (Tue, 28 Jan 2025) EndedAt: 2025-01-28 11:34:49 -0000 (Tue, 28 Jan 2025) EllapsedTime: 136.1 seconds RetCode: 0 Status: OK CheckDir: hpar.Rcheck Warnings: 0