Package: hpar Version: 1.49.0 Command: /Library/Frameworks/R.framework/Resources/bin/R CMD INSTALL hpar StartedAt: 2025-02-03 15:44:27 -0500 (Mon, 03 Feb 2025) EndedAt: 2025-02-03 15:44:33 -0500 (Mon, 03 Feb 2025) EllapsedTime: 5.8 seconds RetCode: 0 Status: OK