Package: hpar Version: 1.49.0 Command: /Library/Frameworks/R.framework/Resources/bin/R CMD check --install=check:hpar.install-out.txt --library=/Library/Frameworks/R.framework/Resources/library --no-vignettes --timings hpar_1.49.0.tar.gz StartedAt: 2025-02-03 20:16:34 -0500 (Mon, 03 Feb 2025) EndedAt: 2025-02-03 20:17:17 -0500 (Mon, 03 Feb 2025) EllapsedTime: 43.5 seconds RetCode: 0 Status: OK CheckDir: hpar.Rcheck Warnings: 0