Package: hpar Version: 1.49.0 Command: /Library/Frameworks/R.framework/Resources/bin/R CMD build --keep-empty-dirs --no-resave-data hpar StartedAt: 2025-02-05 16:39:26 -0500 (Wed, 05 Feb 2025) EndedAt: 2025-02-05 16:39:41 -0500 (Wed, 05 Feb 2025) EllapsedTime: 15.1 seconds RetCode: 0 Status: OK PackageFile: hpar_1.49.0.tar.gz PackageFileSize: 885.3 KiB