Package: hopach Version: 2.67.0 Command: E:\biocbuild\bbs-3.21-bioc\R\bin\R.exe CMD INSTALL hopach StartedAt: 2025-02-03 15:38:11 -0500 (Mon, 03 Feb 2025) EndedAt: 2025-02-03 15:38:43 -0500 (Mon, 03 Feb 2025) EllapsedTime: 31.9 seconds RetCode: 0 Status: OK