Package: hopach Version: 2.67.0 Command: chmod a+r hopach -R && E:\biocbuild\bbs-3.21-bioc\R\bin\R.exe CMD build --keep-empty-dirs --no-resave-data hopach StartedAt: 2025-02-03 19:28:06 -0500 (Mon, 03 Feb 2025) EndedAt: 2025-02-03 19:28:47 -0500 (Mon, 03 Feb 2025) EllapsedTime: 40.8 seconds RetCode: 0 Status: OK PackageFile: hopach_2.67.0.tar.gz PackageFileSize: 1.171 MiB