Package: hopach Version: 2.67.0 Command: /home/biocbuild/bbs-3.21-bioc/R/bin/R CMD check --install=check:hopach.install-out.txt --library=/home/biocbuild/bbs-3.21-bioc/R/site-library --timings hopach_2.67.0.tar.gz StartedAt: 2025-02-03 23:18:49 -0500 (Mon, 03 Feb 2025) EndedAt: 2025-02-03 23:20:00 -0500 (Mon, 03 Feb 2025) EllapsedTime: 71.1 seconds RetCode: 0 Status: OK CheckDir: hopach.Rcheck Warnings: 0