Package: hopach Version: 2.67.0 Command: /Library/Frameworks/R.framework/Resources/bin/R CMD build --keep-empty-dirs --no-resave-data hopach StartedAt: 2025-02-03 17:14:38 -0500 (Mon, 03 Feb 2025) EndedAt: 2025-02-03 17:14:50 -0500 (Mon, 03 Feb 2025) EllapsedTime: 11.1 seconds RetCode: 0 Status: OK PackageFile: hopach_2.67.0.tar.gz PackageFileSize: 1.293 MiB